BEGIN:VCALENDAR
VERSION:2.0
PRODID:-//SPD Oberneuland - ECPv6.15.20//NONSGML v1.0//EN
CALSCALE:GREGORIAN
METHOD:PUBLISH
X-ORIGINAL-URL:https://spd-oberneuland.de
X-WR-CALDESC:Veranstaltungen für SPD Oberneuland
REFRESH-INTERVAL;VALUE=DURATION:PT1H
X-Robots-Tag:noindex
X-PUBLISHED-TTL:PT1H
BEGIN:VTIMEZONE
TZID:Europe/Helsinki
BEGIN:DAYLIGHT
TZOFFSETFROM:+0200
TZOFFSETTO:+0300
TZNAME:EEST
DTSTART:20170326T010000
END:DAYLIGHT
BEGIN:STANDARD
TZOFFSETFROM:+0300
TZOFFSETTO:+0200
TZNAME:EET
DTSTART:20171029T010000
END:STANDARD
BEGIN:DAYLIGHT
TZOFFSETFROM:+0200
TZOFFSETTO:+0300
TZNAME:EEST
DTSTART:20180325T010000
END:DAYLIGHT
BEGIN:STANDARD
TZOFFSETFROM:+0300
TZOFFSETTO:+0200
TZNAME:EET
DTSTART:20181028T010000
END:STANDARD
BEGIN:DAYLIGHT
TZOFFSETFROM:+0200
TZOFFSETTO:+0300
TZNAME:EEST
DTSTART:20190331T010000
END:DAYLIGHT
BEGIN:STANDARD
TZOFFSETFROM:+0300
TZOFFSETTO:+0200
TZNAME:EET
DTSTART:20191027T010000
END:STANDARD
END:VTIMEZONE
BEGIN:VEVENT
DTSTART;TZID=Europe/Helsinki:20180409T183000
DTEND;TZID=Europe/Helsinki:20180409T210000
DTSTAMP:20260425T155016
CREATED:20180318T065955Z
LAST-MODIFIED:20180318T065955Z
UID:5184-1523298600-1523307600@spd-oberneuland.de
SUMMARY:Veranstaltungsreihe "Jetzt gemeinsam Zukunft machen": Kinder. Bildung. Zukunft!
DESCRIPTION:Wir wollen gemeinsam Zukunft machen. Die SPD im Land Bremen startet mit der Arbeit  an ihrem Zukunftsprogramm – nicht im stillen Kämmerlein\, sondern im Dialog mit allen\, die an einer guten Zukunft für Bremen und Bremerhaven interessiert sind. Also mit Ihnen. Am Anfang steht der Austausch und die Ideensammlung. Hierzu führen wir sechs öffentliche Veranstaltungen durch.\n\nKinder und Jugendliche so zu fördern\, dass sie über sich hinauswachsen können: Wie kann dies in einem Bundesland gelingen\, in dem die soziale Lage der meisten Kinder besondere Unterstützungsbedarfe erfordert? Wie kann die bestmögliche Förderung aller Talente in Schule und Kita gelingen? Das Schulsystem und die frühkindliche Bildung in Bremen bieten gute Ausgangsbedingungen: was muss gestärkt\, was muss ergänzt werden?\n\n\nMit Bürgermeister Carsten Sieling\,\nClaudia Bogedan\, Se­na­to­rin für Kin­der und Bil­dung der Frei­en Han­se­stadt Bre­men\, Carsten Dohrmann\, Schul­lei­tung Grund­schu­le Stich­na­th­stra­ße\, Pro­jekt Lern­haus Kat­ten­turm und Karin Meyer\, Lei­tung Kin­der- und Fa­mi­li­en­zen­trum Hal­mer­weg.
URL:https://spd-oberneuland.de/event/veranstaltungsreihe-jetzt-gemeinsam-zukunft-machen-kinder-bildung-zukunft/
LOCATION:Treffpunkt KWADRAT\, Wilhelm-Kaisen-Brücke 4\, Bremen\, Bremen\, 28199\, Deutschland
END:VEVENT
END:VCALENDAR