BEGIN:VCALENDAR
VERSION:2.0
PRODID:-//SPD Oberneuland - ECPv6.15.20//NONSGML v1.0//EN
CALSCALE:GREGORIAN
METHOD:PUBLISH
X-ORIGINAL-URL:https://spd-oberneuland.de
X-WR-CALDESC:Veranstaltungen für SPD Oberneuland
REFRESH-INTERVAL;VALUE=DURATION:PT1H
X-Robots-Tag:noindex
X-PUBLISHED-TTL:PT1H
BEGIN:VTIMEZONE
TZID:Europe/Helsinki
BEGIN:DAYLIGHT
TZOFFSETFROM:+0200
TZOFFSETTO:+0300
TZNAME:EEST
DTSTART:20170326T010000
END:DAYLIGHT
BEGIN:STANDARD
TZOFFSETFROM:+0300
TZOFFSETTO:+0200
TZNAME:EET
DTSTART:20171029T010000
END:STANDARD
BEGIN:DAYLIGHT
TZOFFSETFROM:+0200
TZOFFSETTO:+0300
TZNAME:EEST
DTSTART:20180325T010000
END:DAYLIGHT
BEGIN:STANDARD
TZOFFSETFROM:+0300
TZOFFSETTO:+0200
TZNAME:EET
DTSTART:20181028T010000
END:STANDARD
BEGIN:DAYLIGHT
TZOFFSETFROM:+0200
TZOFFSETTO:+0300
TZNAME:EEST
DTSTART:20190331T010000
END:DAYLIGHT
BEGIN:STANDARD
TZOFFSETFROM:+0300
TZOFFSETTO:+0200
TZNAME:EET
DTSTART:20191027T010000
END:STANDARD
END:VTIMEZONE
BEGIN:VEVENT
DTSTART;TZID=Europe/Helsinki:20180411T183000
DTEND;TZID=Europe/Helsinki:20180411T210000
DTSTAMP:20260425T155019
CREATED:20180318T071108Z
LAST-MODIFIED:20180318T071501Z
UID:5188-1523471400-1523480400@spd-oberneuland.de
SUMMARY:Veranstaltungsreihe „Jetzt gemeinsam Zukunft machen“: Sicherheit. Sauberkeit. Zukunft!
DESCRIPTION:Wir wollen gemeinsam Zukunft machen. Die SPD im Land Bremen startet mit der Arbeit an ihrem Zukunftsprogramm – nicht im stillen Kämmerlein\, sondern im Dialog mit allen\, die an einer guten Zukunft für Bremen und Bremerhaven interessiert sind. Also mit Ihnen. Am Anfang steht der Austausch und die Ideensammlung. Hierzu führen wir sechs öffentliche Veranstaltungen durch.\nStarke Polizeipräsenz auf der Straße\, ein guter und funktionierender Bürgerservice\, mehr Sauberkeit in den Quartieren\, ein neuer Ordnungsdienst für Bremen\, Polizeikosten bei Hochrisikospielen im Fußball und vieles mehr. Die Themen rund um die innere Sicherheit bewegen viele Menschen in Bremen und Bremerhaven. Was wir bisher erreicht haben und vor allem\, was wir noch vorhaben\, darüber möchten wir mit Ihnen im Rahmen der Veranstaltung diskutieren.\nMit Bürgermeister Carsten Sieling\, Prä­si­dent des Se­nats der Frei­en Han­se­stadt Bre­men\, Ulrich Mäurer\, Se­na­tor für In­ne­res der Frei­en Han­se­stadt Bre­men\, Christina Biese\, Ge­werk­schaft der Po­li­zei (GdP).
URL:https://spd-oberneuland.de/event/veranstaltungsreihe-jetzt-gemeinsam-zukunft-machen-sicherheit-sauberkeit-zukunft/
LOCATION:Treffpunkt KWADRAT\, Wilhelm-Kaisen-Brücke 4\, Bremen\, Bremen\, 28199\, Deutschland
END:VEVENT
END:VCALENDAR