BEGIN:VCALENDAR
VERSION:2.0
PRODID:-//SPD Oberneuland - ECPv6.15.20//NONSGML v1.0//EN
CALSCALE:GREGORIAN
METHOD:PUBLISH
X-WR-CALNAME:SPD Oberneuland
X-ORIGINAL-URL:https://spd-oberneuland.de
X-WR-CALDESC:Veranstaltungen für SPD Oberneuland
REFRESH-INTERVAL;VALUE=DURATION:PT1H
X-Robots-Tag:noindex
X-PUBLISHED-TTL:PT1H
BEGIN:VTIMEZONE
TZID:Europe/Helsinki
BEGIN:DAYLIGHT
TZOFFSETFROM:+0200
TZOFFSETTO:+0300
TZNAME:EEST
DTSTART:20170326T010000
END:DAYLIGHT
BEGIN:STANDARD
TZOFFSETFROM:+0300
TZOFFSETTO:+0200
TZNAME:EET
DTSTART:20171029T010000
END:STANDARD
BEGIN:DAYLIGHT
TZOFFSETFROM:+0200
TZOFFSETTO:+0300
TZNAME:EEST
DTSTART:20180325T010000
END:DAYLIGHT
BEGIN:STANDARD
TZOFFSETFROM:+0300
TZOFFSETTO:+0200
TZNAME:EET
DTSTART:20181028T010000
END:STANDARD
BEGIN:DAYLIGHT
TZOFFSETFROM:+0200
TZOFFSETTO:+0300
TZNAME:EEST
DTSTART:20190331T010000
END:DAYLIGHT
BEGIN:STANDARD
TZOFFSETFROM:+0300
TZOFFSETTO:+0200
TZNAME:EET
DTSTART:20191027T010000
END:STANDARD
END:VTIMEZONE
BEGIN:VEVENT
DTSTART;TZID=Europe/Helsinki:20180529T193000
DTEND;TZID=Europe/Helsinki:20180529T210000
DTSTAMP:20260425T132819
CREATED:20180318T073027Z
LAST-MODIFIED:20180318T073133Z
UID:5199-1527622200-1527627600@spd-oberneuland.de
SUMMARY:Veranstaltungsreihe „Jetzt gemeinsam Zukunft machen“: Soziale Gerechtigkeit\, Zusammenhalt. Zukunft!
DESCRIPTION:Wir wollen gemeinsam Zukunft machen. Die SPD im Land Bremen startet mit der Arbeit  an ihrem Zukunftsprogramm – nicht im stillen Kämmerlein\, sondern im Dialog mit allen\, die an einer guten Zukunft für Bremen und Bremerhaven interessiert sind. Also mit Ihnen. Am Anfang steht der Austausch und die Ideensammlung. Hierzu führen wir sechs öffentliche Veranstaltungen durch. \nMit Bürgermeister Carsten Sieling\, Prä­si­dent des Se­nats der Frei­en Han­se­stadt Bre­men\, Sascha Karolin Aulepp\, Lan­des­vor­sit­zen­de der SPD Bre­men.
URL:https://spd-oberneuland.de/event/veranstaltungsreihe-jetzt-gemeinsam-zukunft-machen-soziale-gerechtigkeit-zusammenhalt-zukunft/
LOCATION:Gus­tav-Hei­nemann-Bür­ger­haus\, Kirchheide 49\, Bremen\, Bremen\, 28757\, Deutschland
END:VEVENT
END:VCALENDAR