BEGIN:VCALENDAR
VERSION:2.0
PRODID:-//SPD Oberneuland - ECPv6.15.20//NONSGML v1.0//EN
CALSCALE:GREGORIAN
METHOD:PUBLISH
X-WR-CALNAME:SPD Oberneuland
X-ORIGINAL-URL:https://spd-oberneuland.de
X-WR-CALDESC:Veranstaltungen für SPD Oberneuland
REFRESH-INTERVAL;VALUE=DURATION:PT1H
X-Robots-Tag:noindex
X-PUBLISHED-TTL:PT1H
BEGIN:VTIMEZONE
TZID:Europe/Helsinki
BEGIN:DAYLIGHT
TZOFFSETFROM:+0200
TZOFFSETTO:+0300
TZNAME:EEST
DTSTART:20170326T010000
END:DAYLIGHT
BEGIN:STANDARD
TZOFFSETFROM:+0300
TZOFFSETTO:+0200
TZNAME:EET
DTSTART:20171029T010000
END:STANDARD
BEGIN:DAYLIGHT
TZOFFSETFROM:+0200
TZOFFSETTO:+0300
TZNAME:EEST
DTSTART:20180325T010000
END:DAYLIGHT
BEGIN:STANDARD
TZOFFSETFROM:+0300
TZOFFSETTO:+0200
TZNAME:EET
DTSTART:20181028T010000
END:STANDARD
BEGIN:DAYLIGHT
TZOFFSETFROM:+0200
TZOFFSETTO:+0300
TZNAME:EEST
DTSTART:20190331T010000
END:DAYLIGHT
BEGIN:STANDARD
TZOFFSETFROM:+0300
TZOFFSETTO:+0200
TZNAME:EET
DTSTART:20191027T010000
END:STANDARD
END:VTIMEZONE
BEGIN:VEVENT
DTSTART;TZID=Europe/Helsinki:20180901T080000
DTEND;TZID=Europe/Helsinki:20180901T100000
DTSTAMP:20260423T134834
CREATED:20180109T171351Z
LAST-MODIFIED:20180110T070911Z
UID:5061-1535788800-1535796000@spd-oberneuland.de
SUMMARY:Die Aktion "Wo drückt der Schuh?"
DESCRIPTION:Die SPD möchte mit den Bürgerinnen und Bürger auch 2018 wieder stark ins Gespräch kommen. Dafür organisieren wir in Oberneuland seit 10 Jahren den „Roten Schuh“ und kommen zu Ihnen auf Plätze\, vor Bäckereien\, Supermärkten etc. \n„Wo drückt der Schuh?“ Haben Sie Fragen\, Anregungen\, Kritik\, Verbesserungsvorschläge für Borgfeld\, Horn-Lehe und Oberneuland? \nWir sind da und hören Ihnen zu!
URL:https://spd-oberneuland.de/event/die-aktion-wo-drueckt-der-schuh-5/
LOCATION:Bremer Backhaus Apfelallee\, Oberneulander Heerstraße 35\, Bremen\, Bremen\, 28355\, Deutschland
ATTACH;FMTTYPE=image/jpeg:https://spd-oberneuland.de/wp-content/uploads/2010/04/BILD20842.jpg
END:VEVENT
END:VCALENDAR