BEGIN:VCALENDAR
VERSION:2.0
PRODID:-//SPD Oberneuland - ECPv6.15.20//NONSGML v1.0//EN
CALSCALE:GREGORIAN
METHOD:PUBLISH
X-ORIGINAL-URL:https://spd-oberneuland.de
X-WR-CALDESC:Veranstaltungen für SPD Oberneuland
REFRESH-INTERVAL;VALUE=DURATION:PT1H
X-Robots-Tag:noindex
X-PUBLISHED-TTL:PT1H
BEGIN:VTIMEZONE
TZID:Europe/Helsinki
BEGIN:DAYLIGHT
TZOFFSETFROM:+0200
TZOFFSETTO:+0300
TZNAME:EEST
DTSTART:20170326T010000
END:DAYLIGHT
BEGIN:STANDARD
TZOFFSETFROM:+0300
TZOFFSETTO:+0200
TZNAME:EET
DTSTART:20171029T010000
END:STANDARD
BEGIN:DAYLIGHT
TZOFFSETFROM:+0200
TZOFFSETTO:+0300
TZNAME:EEST
DTSTART:20180325T010000
END:DAYLIGHT
BEGIN:STANDARD
TZOFFSETFROM:+0300
TZOFFSETTO:+0200
TZNAME:EET
DTSTART:20181028T010000
END:STANDARD
BEGIN:DAYLIGHT
TZOFFSETFROM:+0200
TZOFFSETTO:+0300
TZNAME:EEST
DTSTART:20190331T010000
END:DAYLIGHT
BEGIN:STANDARD
TZOFFSETFROM:+0300
TZOFFSETTO:+0200
TZNAME:EET
DTSTART:20191027T010000
END:STANDARD
END:VTIMEZONE
BEGIN:VEVENT
DTSTART;TZID=Europe/Helsinki:20181128T193000
DTEND;TZID=Europe/Helsinki:20181128T210000
DTSTAMP:20260421T121215
CREATED:20181125T170150Z
LAST-MODIFIED:20181125T170150Z
UID:6093-1543433400-1543438800@spd-oberneuland.de
SUMMARY:Info-Veranstaltung: "Die niedersächsische Gasförderung - auch ein Bremer Problem!"
DESCRIPTION:Zusammen mit Bürgerinitiativen aus dem Landkreis Verden informiert unser Bürgerschaftskandidat Derik Eicke über die Gefahren und Probleme der Gasförderung und dem sogenannten Fracking. \nBereits jetzt betrifft das Thema Bremen\, da über 100000 Haushalte ihr Trinkwasser aus Verden bekommen. Sollten die Förderstätten ausgeweitet werden besteht auch die Gefahr von Erdbeben. \nKommen Sie vorbei und informieren Sie sich. \n 
URL:https://spd-oberneuland.de/event/info-veranstaltung-die-niedersaechsische-gasfoerderung-auch-ein-bremer-problem/
LOCATION:Gehoerlosenfreizeitheim\, Schwachhauser Heerstraße 266\, Bremen\, 28359\, Deutschland
ATTACH;FMTTYPE=image/jpeg:https://spd-oberneuland.de/wp-content/uploads/2018/11/Gasförderung.jpg
END:VEVENT
END:VCALENDAR