BEGIN:VCALENDAR
VERSION:2.0
PRODID:-//SPD Oberneuland - ECPv6.15.20//NONSGML v1.0//EN
CALSCALE:GREGORIAN
METHOD:PUBLISH
X-ORIGINAL-URL:https://spd-oberneuland.de
X-WR-CALDESC:Veranstaltungen für SPD Oberneuland
REFRESH-INTERVAL;VALUE=DURATION:PT1H
X-Robots-Tag:noindex
X-PUBLISHED-TTL:PT1H
BEGIN:VTIMEZONE
TZID:Europe/Helsinki
BEGIN:DAYLIGHT
TZOFFSETFROM:+0200
TZOFFSETTO:+0300
TZNAME:EEST
DTSTART:20190331T010000
END:DAYLIGHT
BEGIN:STANDARD
TZOFFSETFROM:+0300
TZOFFSETTO:+0200
TZNAME:EET
DTSTART:20191027T010000
END:STANDARD
BEGIN:DAYLIGHT
TZOFFSETFROM:+0200
TZOFFSETTO:+0300
TZNAME:EEST
DTSTART:20200329T010000
END:DAYLIGHT
BEGIN:STANDARD
TZOFFSETFROM:+0300
TZOFFSETTO:+0200
TZNAME:EET
DTSTART:20201025T010000
END:STANDARD
BEGIN:DAYLIGHT
TZOFFSETFROM:+0200
TZOFFSETTO:+0300
TZNAME:EEST
DTSTART:20210328T010000
END:DAYLIGHT
BEGIN:STANDARD
TZOFFSETFROM:+0300
TZOFFSETTO:+0200
TZNAME:EET
DTSTART:20211031T010000
END:STANDARD
END:VTIMEZONE
BEGIN:VEVENT
DTSTART;TZID=Europe/Helsinki:20201113T190000
DTEND;TZID=Europe/Helsinki:20201113T210000
DTSTAMP:20260422T121333
CREATED:20200212T132536Z
LAST-MODIFIED:20201007T170430Z
UID:6681-1605294000-1605301200@spd-oberneuland.de
SUMMARY:coronabedingte ABSAGE: SPD-Skatturnier "Hans-Rost-Pokal"
DESCRIPTION:Aufgrund der aktuellen Fallzahlen haben wir beschlossen\, dass unser Skatturnier im Bremer Nordosten 2020 ausfällt.  \nZu Ehren unseres verstorbenen Kassierers Hans Rost\, der 40 Jahre lang unsere Kasse geführt hat\, veranstalten wir aber 2021 wieder gemeinsam mit den Ortsvereinen aus Borgfeld und Horn-Lehe unser Skatturnier. \n 
URL:https://spd-oberneuland.de/event/spd-skatturnier-hans-rost-pokal-2/
LOCATION:NN
ATTACH;FMTTYPE=image/jpeg:https://spd-oberneuland.de/wp-content/uploads/2020/02/skat.jpg
END:VEVENT
END:VCALENDAR