BEGIN:VCALENDAR
VERSION:2.0
PRODID:-//SPD Oberneuland - ECPv6.15.20//NONSGML v1.0//EN
CALSCALE:GREGORIAN
METHOD:PUBLISH
X-ORIGINAL-URL:https://spd-oberneuland.de
X-WR-CALDESC:Veranstaltungen für SPD Oberneuland
REFRESH-INTERVAL;VALUE=DURATION:PT1H
X-Robots-Tag:noindex
X-PUBLISHED-TTL:PT1H
BEGIN:VTIMEZONE
TZID:Europe/Helsinki
BEGIN:DAYLIGHT
TZOFFSETFROM:+0200
TZOFFSETTO:+0300
TZNAME:EEST
DTSTART:20190331T010000
END:DAYLIGHT
BEGIN:STANDARD
TZOFFSETFROM:+0300
TZOFFSETTO:+0200
TZNAME:EET
DTSTART:20191027T010000
END:STANDARD
BEGIN:DAYLIGHT
TZOFFSETFROM:+0200
TZOFFSETTO:+0300
TZNAME:EEST
DTSTART:20200329T010000
END:DAYLIGHT
BEGIN:STANDARD
TZOFFSETFROM:+0300
TZOFFSETTO:+0200
TZNAME:EET
DTSTART:20201025T010000
END:STANDARD
BEGIN:DAYLIGHT
TZOFFSETFROM:+0200
TZOFFSETTO:+0300
TZNAME:EEST
DTSTART:20210328T010000
END:DAYLIGHT
BEGIN:STANDARD
TZOFFSETFROM:+0300
TZOFFSETTO:+0200
TZNAME:EET
DTSTART:20211031T010000
END:STANDARD
END:VTIMEZONE
BEGIN:VEVENT
DTSTART;TZID=Europe/Helsinki:20201117T183000
DTEND;TZID=Europe/Helsinki:20201117T203000
DTSTAMP:20260422T120619
CREATED:20201021T090551Z
LAST-MODIFIED:20201021T090551Z
UID:7170-1605637800-1605645000@spd-oberneuland.de
SUMMARY:Ausschusssitzung für Stadtteilentwicklung\, Verkehr\, Umwelt und Landwirtschaft
DESCRIPTION:Alle Informationen und ggf. der Zugangslink für eine Videokonferenz findet man auf der Seite des Ortsamtes Oberneuland \nhttps://www.ortsamt-oberneuland.bremen.de/startseite-1459 \n  \n 
URL:https://spd-oberneuland.de/event/ausschusssitzung-fuer-stadtteilentwicklung-verkehr-umwelt-und-landwirtschaft/
LOCATION:NN
ATTACH;FMTTYPE=image/jpeg:https://spd-oberneuland.de/wp-content/uploads/2019/07/315x225_Oberneuland.jpg
END:VEVENT
END:VCALENDAR