BEGIN:VCALENDAR
VERSION:2.0
PRODID:-//SPD Oberneuland - ECPv6.15.20//NONSGML v1.0//EN
CALSCALE:GREGORIAN
METHOD:PUBLISH
X-ORIGINAL-URL:https://spd-oberneuland.de
X-WR-CALDESC:Veranstaltungen für SPD Oberneuland
REFRESH-INTERVAL;VALUE=DURATION:PT1H
X-Robots-Tag:noindex
X-PUBLISHED-TTL:PT1H
BEGIN:VTIMEZONE
TZID:Europe/Helsinki
BEGIN:DAYLIGHT
TZOFFSETFROM:+0200
TZOFFSETTO:+0300
TZNAME:EEST
DTSTART:20190331T010000
END:DAYLIGHT
BEGIN:STANDARD
TZOFFSETFROM:+0300
TZOFFSETTO:+0200
TZNAME:EET
DTSTART:20191027T010000
END:STANDARD
BEGIN:DAYLIGHT
TZOFFSETFROM:+0200
TZOFFSETTO:+0300
TZNAME:EEST
DTSTART:20200329T010000
END:DAYLIGHT
BEGIN:STANDARD
TZOFFSETFROM:+0300
TZOFFSETTO:+0200
TZNAME:EET
DTSTART:20201025T010000
END:STANDARD
BEGIN:DAYLIGHT
TZOFFSETFROM:+0200
TZOFFSETTO:+0300
TZNAME:EEST
DTSTART:20210328T010000
END:DAYLIGHT
BEGIN:STANDARD
TZOFFSETFROM:+0300
TZOFFSETTO:+0200
TZNAME:EET
DTSTART:20211031T010000
END:STANDARD
END:VTIMEZONE
BEGIN:VEVENT
DTSTART;TZID=Europe/Helsinki:20201130T183000
DTEND;TZID=Europe/Helsinki:20201130T190000
DTSTAMP:20260420T123027
CREATED:20201015T132357Z
LAST-MODIFIED:20201129T193912Z
UID:7137-1606761000-1606762800@spd-oberneuland.de
SUMMARY:30-Minuten kompakt – Die SPD Oberneuland informiert aus dem Stadtteil: "Der Verkehrsentwicklungsplan"
DESCRIPTION:Das Thema: Der Verkehrsentwicklungsplan / Wie soll sich der Verkehr in Oberneuland entwickeln? mit Derik Eicke\n \nDie SPD Oberneuland steht für mehr Transparenz in der politischen Arbeit im Stadtteil. \nWir haben daher ein neues digitales Format zu Oberneulander Themen\, das kurz & knackig interessierte Bürger*innen über ein Beiratsthema informiert. \n30-Minuten kompakt – Die SPD Oberneuland informiert aus dem Stadtteil \nDie jeweiligen Verantwortlichen im Beirat und dessen Ausschüssen informieren kurz & knackig über den aktuellen Sachstand zu diesem einen Thema. Danach können noch Fragen\, Anmerkungen etc. gestellt werden. Während der Sitzung wird die Email-Adresse des jeweiligen Verantwortlichen eingeblendet\, so dass weitere Fragen u.ä. direkt geschickt oder z.B. Ortstermine vereinbart werden können. \nUm an der Veranstaltung teilzunehmen einfach hier anklicken:  \nSo eine große Transparenz in der politischen Arbeit im Beirat gab es noch nie in Oberneuland. Der Vorteil ist auch\, dass du dich ganz bewusst zu einem festgelegten Thema zuschalten kannst. \nDie Verantwortlichen: \n\nMeike Hethey: Fraktionsvorsitzende\, Mitglied im Ausschuss für Bildung & Kinder\nBirthe Körnich: Beiratsmitglied\, Mitglied im Bauausschuss\nDerik Eicke: Mitglied im Ausschuss für Stadtteilentwicklung\, Verkehr\, Umwelt und Landwirtschaft
URL:https://spd-oberneuland.de/event/30-minuten-kompakt-die-spd-oberneuland-informiert-aus-dem-stadtteil-der-verkehrsentwicklungsplan/
LOCATION:öffentliche Videokonferenz
ATTACH;FMTTYPE=image/png:https://spd-oberneuland.de/wp-content/uploads/2020/11/30-Minuten-Verkehrsentwicklungsplan.png
END:VEVENT
END:VCALENDAR