BEGIN:VCALENDAR
VERSION:2.0
PRODID:-//SPD Oberneuland - ECPv6.15.20//NONSGML v1.0//EN
CALSCALE:GREGORIAN
METHOD:PUBLISH
X-WR-CALNAME:SPD Oberneuland
X-ORIGINAL-URL:https://spd-oberneuland.de
X-WR-CALDESC:Veranstaltungen für SPD Oberneuland
REFRESH-INTERVAL;VALUE=DURATION:PT1H
X-Robots-Tag:noindex
X-PUBLISHED-TTL:PT1H
BEGIN:VTIMEZONE
TZID:Europe/Helsinki
BEGIN:DAYLIGHT
TZOFFSETFROM:+0200
TZOFFSETTO:+0300
TZNAME:EEST
DTSTART:20200329T010000
END:DAYLIGHT
BEGIN:STANDARD
TZOFFSETFROM:+0300
TZOFFSETTO:+0200
TZNAME:EET
DTSTART:20201025T010000
END:STANDARD
BEGIN:DAYLIGHT
TZOFFSETFROM:+0200
TZOFFSETTO:+0300
TZNAME:EEST
DTSTART:20210328T010000
END:DAYLIGHT
BEGIN:STANDARD
TZOFFSETFROM:+0300
TZOFFSETTO:+0200
TZNAME:EET
DTSTART:20211031T010000
END:STANDARD
BEGIN:DAYLIGHT
TZOFFSETFROM:+0200
TZOFFSETTO:+0300
TZNAME:EEST
DTSTART:20220327T010000
END:DAYLIGHT
BEGIN:STANDARD
TZOFFSETFROM:+0300
TZOFFSETTO:+0200
TZNAME:EET
DTSTART:20221030T010000
END:STANDARD
END:VTIMEZONE
BEGIN:VEVENT
DTSTART;TZID=Europe/Helsinki:20210203T183000
DTEND;TZID=Europe/Helsinki:20210203T193000
DTSTAMP:20260422T152445
CREATED:20210126T175726Z
LAST-MODIFIED:20210129T162542Z
UID:7339-1612377000-1612380600@spd-oberneuland.de
SUMMARY:LIVE auf dem YouTube-Kanal: Derik Eicke im Gespräch mit Sönke Hofmann (Nabu Bremen): "Naturschutz im eigenen Garten"
DESCRIPTION:In der Veranstaltungsreihe geht es dieses Mal um den Naturschutz. \nMit Sönke Hofmann (Geschäftsführer Nabu Bremen) hat Derik Eicke einen kompetenten Gesprächspartner\, um den Naturschutz im eigenen Garten zu besprechen. Wie gestalte ich meinen Garten\, um einen Beitrag zum Vogel- und Insektenschutz zu leisten. Welche Pflanzen sollte man haben? Welche auf gar keinen Fall? \nDie Veranstaltung wird live auf unserem YouTube-Kanal gesendet. Einfach nur anklicken – man wird direkt weitergeleitet. Hier bitte klicken. \nDie Vorteile sind: \n\nniemand muss sich mit einem Passwort in eine Videokonferenz anmelden.\nYouTube funktioniert ganz einfach wie „Fernsehen“.\nDie Sendung wird bei YouTube in einer Mediathek gespeichert\, d.h. man kann sich die Sendung auch zu einem späteren Zeitpunkt ansehen.\n\n  \n 
URL:https://spd-oberneuland.de/event/live-auf-dem-youtube-kanal-derik-eicke-im-gespraech-mit-soenke-hofmann-nabu-bremen-naturschutz-im-eigenen-garten/
LOCATION:YouTube-Kanal der SPD Oberneuland
ATTACH;FMTTYPE=image/png:https://spd-oberneuland.de/wp-content/uploads/2021/01/21-02-03-Soenke-Hofmann-1.png
END:VEVENT
END:VCALENDAR