BEGIN:VCALENDAR
VERSION:2.0
PRODID:-//SPD Oberneuland - ECPv6.15.20//NONSGML v1.0//EN
CALSCALE:GREGORIAN
METHOD:PUBLISH
X-WR-CALNAME:SPD Oberneuland
X-ORIGINAL-URL:https://spd-oberneuland.de
X-WR-CALDESC:Veranstaltungen für SPD Oberneuland
REFRESH-INTERVAL;VALUE=DURATION:PT1H
X-Robots-Tag:noindex
X-PUBLISHED-TTL:PT1H
BEGIN:VTIMEZONE
TZID:Europe/Helsinki
BEGIN:DAYLIGHT
TZOFFSETFROM:+0200
TZOFFSETTO:+0300
TZNAME:EEST
DTSTART:20200329T010000
END:DAYLIGHT
BEGIN:STANDARD
TZOFFSETFROM:+0300
TZOFFSETTO:+0200
TZNAME:EET
DTSTART:20201025T010000
END:STANDARD
BEGIN:DAYLIGHT
TZOFFSETFROM:+0200
TZOFFSETTO:+0300
TZNAME:EEST
DTSTART:20210328T010000
END:DAYLIGHT
BEGIN:STANDARD
TZOFFSETFROM:+0300
TZOFFSETTO:+0200
TZNAME:EET
DTSTART:20211031T010000
END:STANDARD
BEGIN:DAYLIGHT
TZOFFSETFROM:+0200
TZOFFSETTO:+0300
TZNAME:EEST
DTSTART:20220327T010000
END:DAYLIGHT
BEGIN:STANDARD
TZOFFSETFROM:+0300
TZOFFSETTO:+0200
TZNAME:EET
DTSTART:20221030T010000
END:STANDARD
END:VTIMEZONE
BEGIN:VEVENT
DTSTART;TZID=Europe/Helsinki:20210216T190000
DTEND;TZID=Europe/Helsinki:20210216T210000
DTSTAMP:20260422T152341
CREATED:20210108T205950Z
LAST-MODIFIED:20210108T205950Z
UID:7324-1613502000-1613509200@spd-oberneuland.de
SUMMARY:Ausschusssitzung Stadtteilentwicklung\, Umwelt\, Verkehr und Landwirtschaft
DESCRIPTION:Die Tagesordnung\, den Sitzungsort etc. findet man auf der Seite des Ortsamtes Oberneuland. Sollte die Sitzung durch Corona per Videokonferenz stattfinden gibt es auf der Ortsamtshomepage alle Informationen und Zugangsdaten. \nHier finden man die Tagesordnung der Sitzung.
URL:https://spd-oberneuland.de/event/ausschusssitzung-stadtteilentwicklung-umwelt-verkehr-und-landwirtschaft/
LOCATION:NN
END:VEVENT
END:VCALENDAR