BEGIN:VCALENDAR
VERSION:2.0
PRODID:-//SPD Oberneuland - ECPv6.15.20//NONSGML v1.0//EN
CALSCALE:GREGORIAN
METHOD:PUBLISH
X-ORIGINAL-URL:https://spd-oberneuland.de
X-WR-CALDESC:Veranstaltungen für SPD Oberneuland
REFRESH-INTERVAL;VALUE=DURATION:PT1H
X-Robots-Tag:noindex
X-PUBLISHED-TTL:PT1H
BEGIN:VTIMEZONE
TZID:Europe/Helsinki
BEGIN:DAYLIGHT
TZOFFSETFROM:+0200
TZOFFSETTO:+0300
TZNAME:EEST
DTSTART:20200329T010000
END:DAYLIGHT
BEGIN:STANDARD
TZOFFSETFROM:+0300
TZOFFSETTO:+0200
TZNAME:EET
DTSTART:20201025T010000
END:STANDARD
BEGIN:DAYLIGHT
TZOFFSETFROM:+0200
TZOFFSETTO:+0300
TZNAME:EEST
DTSTART:20210328T010000
END:DAYLIGHT
BEGIN:STANDARD
TZOFFSETFROM:+0300
TZOFFSETTO:+0200
TZNAME:EET
DTSTART:20211031T010000
END:STANDARD
BEGIN:DAYLIGHT
TZOFFSETFROM:+0200
TZOFFSETTO:+0300
TZNAME:EEST
DTSTART:20220327T010000
END:DAYLIGHT
BEGIN:STANDARD
TZOFFSETFROM:+0300
TZOFFSETTO:+0200
TZNAME:EET
DTSTART:20221030T010000
END:STANDARD
END:VTIMEZONE
BEGIN:VEVENT
DTSTART;TZID=Europe/Helsinki:20210222T183000
DTEND;TZID=Europe/Helsinki:20210222T193000
DTSTAMP:20260424T110114
CREATED:20210206T192212Z
LAST-MODIFIED:20210206T192342Z
UID:7357-1614018600-1614022200@spd-oberneuland.de
SUMMARY:LIVE: Derik Eicke im Gespräch mit Thorsten Lieder\, Geschäftsführer der Gastro-Gemeinschaft e.V. zum Thema "Gastronomie in Coronazeiten
DESCRIPTION:In der Veranstaltungsreihe geht es dieses Mal um die Situation der Bremer Gastronomen in der Coronazeit. \nMit dem Geschäftsführer der Gastro-Gemeinschaft e.V. Thorsten Lieder hat Derik Eicke einen kompetenten Gesprächspartner\, um die aktuelle Ausnahmesituation durch den Coronavirus zu besprechen. \nDie Veranstaltung wird live auf unserem YouTube-Kanal gesendet. Einfach hier klicken\, dann wird man automatisch weitergeleitet. \nFragen können wie immer im Vorfeld an eicke@spd-oberneuland gemailt werden. Derik Eicke baut sie dann an dem Abend ein. \nDie Vorteile sind: \n\nniemand muss sich mit einem Passwort in eine Videokonferenz anmelden.\nYouTube funktioniert ganz einfach wie „Fernsehen“.\nDie Sendung wird bei YouTube in einer Mediathek gespeichert\, d.h. man kann sich die Sendung auch zu einem späteren Zeitpunkt ansehen.
URL:https://spd-oberneuland.de/event/derik-eicke-im-gespraech-mit-thorsten-lieder-geschaeftsfuehrer-der-gastro-gemeinschaft-e-v-zum-thema-gastronomie-in-coronazeiten/
LOCATION:YouTube-Kanal der SPD Oberneuland
ATTACH;FMTTYPE=image/png:https://spd-oberneuland.de/wp-content/uploads/2021/02/21-02-22-Thorsten-Lieder.png
END:VEVENT
END:VCALENDAR