BEGIN:VCALENDAR
VERSION:2.0
PRODID:-//SPD Oberneuland - ECPv6.15.20//NONSGML v1.0//EN
CALSCALE:GREGORIAN
METHOD:PUBLISH
X-ORIGINAL-URL:https://spd-oberneuland.de
X-WR-CALDESC:Veranstaltungen für SPD Oberneuland
REFRESH-INTERVAL;VALUE=DURATION:PT1H
X-Robots-Tag:noindex
X-PUBLISHED-TTL:PT1H
BEGIN:VTIMEZONE
TZID:Europe/Helsinki
BEGIN:DAYLIGHT
TZOFFSETFROM:+0200
TZOFFSETTO:+0300
TZNAME:EEST
DTSTART:20200329T010000
END:DAYLIGHT
BEGIN:STANDARD
TZOFFSETFROM:+0300
TZOFFSETTO:+0200
TZNAME:EET
DTSTART:20201025T010000
END:STANDARD
BEGIN:DAYLIGHT
TZOFFSETFROM:+0200
TZOFFSETTO:+0300
TZNAME:EEST
DTSTART:20210328T010000
END:DAYLIGHT
BEGIN:STANDARD
TZOFFSETFROM:+0300
TZOFFSETTO:+0200
TZNAME:EET
DTSTART:20211031T010000
END:STANDARD
BEGIN:DAYLIGHT
TZOFFSETFROM:+0200
TZOFFSETTO:+0300
TZNAME:EEST
DTSTART:20220327T010000
END:DAYLIGHT
BEGIN:STANDARD
TZOFFSETFROM:+0300
TZOFFSETTO:+0200
TZNAME:EET
DTSTART:20221030T010000
END:STANDARD
END:VTIMEZONE
BEGIN:VEVENT
DTSTART;VALUE=DATE:20210403
DTEND;VALUE=DATE:20210404
DTSTAMP:20260422T164643
CREATED:20201015T125349Z
LAST-MODIFIED:20201015T125349Z
UID:7127-1617408000-1617494399@spd-oberneuland.de
SUMMARY:111 Jahre SPD Oberneuland - 111 qm Blumenwiese auf Kaemenas Hof für Bienen & Insekten
DESCRIPTION:Als SPD Oberneuland arbeiten wir seit Jahren eng mit dem Bremer Imkerverein auf dem Lür-Kropp-Hof zusammen. In den letzten Jahren konnten wir durch Ortstermine mit Carsten Sieling und Andreas Bovenschulte einige Projekte und Anliegen für die Imker*innen eng begleiten und auch lösen. \nZusätzlich möchten wir direkt in Oberneuland den Lebensraum für die Insekten & Bienen verbessern. Eine Aktion ist die Finanzierung von 111 Quadratmetern Blühwiese bei unserem Landwirten Bea und Hajo Kaemena. Die Aussaat ist für April 2021 geplant und wir sind schon auf das Ergebnis sehr gespannt. \nMehr Infos unter: https://www.kaemena-blueht.de/ \n  \n 
URL:https://spd-oberneuland.de/event/111-jahre-spd-oberneuland-111-qm-blumenwiese-auf-kaemenas-hof-fuer-bienen-insekten/
LOCATION:Kaemenas Hof\, Gustav-Brandes-Weg 19\, Bremen\, Bremen\, 28355\, Deutschland
ATTACH;FMTTYPE=image/jpeg:https://spd-oberneuland.de/wp-content/uploads/2020/10/Blumenwiese.jpg
END:VEVENT
END:VCALENDAR