BEGIN:VCALENDAR
VERSION:2.0
PRODID:-//SPD Oberneuland - ECPv6.15.20//NONSGML v1.0//EN
CALSCALE:GREGORIAN
METHOD:PUBLISH
X-ORIGINAL-URL:https://spd-oberneuland.de
X-WR-CALDESC:Veranstaltungen für SPD Oberneuland
REFRESH-INTERVAL;VALUE=DURATION:PT1H
X-Robots-Tag:noindex
X-PUBLISHED-TTL:PT1H
BEGIN:VTIMEZONE
TZID:Europe/Helsinki
BEGIN:DAYLIGHT
TZOFFSETFROM:+0200
TZOFFSETTO:+0300
TZNAME:EEST
DTSTART:20200329T010000
END:DAYLIGHT
BEGIN:STANDARD
TZOFFSETFROM:+0300
TZOFFSETTO:+0200
TZNAME:EET
DTSTART:20201025T010000
END:STANDARD
BEGIN:DAYLIGHT
TZOFFSETFROM:+0200
TZOFFSETTO:+0300
TZNAME:EEST
DTSTART:20210328T010000
END:DAYLIGHT
BEGIN:STANDARD
TZOFFSETFROM:+0300
TZOFFSETTO:+0200
TZNAME:EET
DTSTART:20211031T010000
END:STANDARD
BEGIN:DAYLIGHT
TZOFFSETFROM:+0200
TZOFFSETTO:+0300
TZNAME:EEST
DTSTART:20220327T010000
END:DAYLIGHT
BEGIN:STANDARD
TZOFFSETFROM:+0300
TZOFFSETTO:+0200
TZNAME:EET
DTSTART:20221030T010000
END:STANDARD
END:VTIMEZONE
BEGIN:VEVENT
DTSTART;VALUE=DATE:20210410
DTEND;VALUE=DATE:20210411
DTSTAMP:20260422T180728
CREATED:20201015T142622Z
LAST-MODIFIED:20210405T161436Z
UID:7155-1618012800-1618099199@spd-oberneuland.de
SUMMARY:Start der Aktion "Die Rote Sonnenblume" 2021
DESCRIPTION:Die SPD Oberneuland organisiert auch 2021 die Aktion „Die Rote Sonnenblume“. \nKurze Information: \n\nDie Aktion ist eine Kombination aus Spendenaktion und Fotowettbewerb.\nGegen eine Sprende von 5\,- € (oder auch gerne mehr) erhält man eine Samentüte mit Sonnenblumenkernen. Die Oberneulander Händler\, bei denen die Tüten zu erhalten sind\, werden zeitnah veröffentlicht.\nDas Spendengeld erhält eine Einrichtung in Oberneuland.\nDie Sonnenblumenkerne gilt es dann zu pflanzen und im Herbst zu fotografieren.\nEine Jury wird ein Siegerbild küren. Der Preis für 2021 wird noch festgelegt.\n\nGenauere Informationen und der Ablauf folgen zeitnah.
URL:https://spd-oberneuland.de/event/start-der-aktion-die-rote-sonnenblume/
LOCATION:Bremen
ATTACH;FMTTYPE=image/png:https://spd-oberneuland.de/wp-content/uploads/2020/04/Die-Rote-Sonnenblume.png
END:VEVENT
END:VCALENDAR