BEGIN:VCALENDAR
VERSION:2.0
PRODID:-//SPD Oberneuland - ECPv6.15.20//NONSGML v1.0//EN
CALSCALE:GREGORIAN
METHOD:PUBLISH
X-ORIGINAL-URL:https://spd-oberneuland.de
X-WR-CALDESC:Veranstaltungen für SPD Oberneuland
REFRESH-INTERVAL;VALUE=DURATION:PT1H
X-Robots-Tag:noindex
X-PUBLISHED-TTL:PT1H
BEGIN:VTIMEZONE
TZID:Europe/Helsinki
BEGIN:DAYLIGHT
TZOFFSETFROM:+0200
TZOFFSETTO:+0300
TZNAME:EEST
DTSTART:20170326T010000
END:DAYLIGHT
BEGIN:STANDARD
TZOFFSETFROM:+0300
TZOFFSETTO:+0200
TZNAME:EET
DTSTART:20171029T010000
END:STANDARD
BEGIN:DAYLIGHT
TZOFFSETFROM:+0200
TZOFFSETTO:+0300
TZNAME:EEST
DTSTART:20180325T010000
END:DAYLIGHT
BEGIN:STANDARD
TZOFFSETFROM:+0300
TZOFFSETTO:+0200
TZNAME:EET
DTSTART:20181028T010000
END:STANDARD
BEGIN:DAYLIGHT
TZOFFSETFROM:+0200
TZOFFSETTO:+0300
TZNAME:EEST
DTSTART:20190331T010000
END:DAYLIGHT
BEGIN:STANDARD
TZOFFSETFROM:+0300
TZOFFSETTO:+0200
TZNAME:EET
DTSTART:20191027T010000
END:STANDARD
END:VTIMEZONE
BEGIN:VEVENT
DTSTART;TZID=Europe/Helsinki:20180804T153000
DTEND;TZID=Europe/Helsinki:20180804T170000
DTSTAMP:20260423T135522
CREATED:20180321T151107Z
LAST-MODIFIED:20180704T221448Z
UID:5243-1533396600-1533402000@spd-oberneuland.de
SUMMARY:Sommeraktion am Achterdieksee mit Bürgermeister Carsten Sieling
DESCRIPTION:Die SPD Oberneuland baut ihren traditionellen Sommerstand am Achterdieksee auf\, um mit den Menschen ins Gespräch zu kommen. Dieses Jahr wird ab ca. 16.00 Uhr auch unser Bürgermeister vor Ort sein. \nWie jedes Jahr gibt es natürlich eine kleine Überraschung für die Kinder zum Spielen am See.
URL:https://spd-oberneuland.de/event/sommeraktion-am-achterdieksee/
LOCATION:Achterdieksee\, Achterdiek 160\, Bremen\, 28355\, Deutschland
ATTACH;FMTTYPE=image/png:https://spd-oberneuland.de/wp-content/uploads/2018/03/2018-Sommeraktion-am-Achterdieksee.png
END:VEVENT
BEGIN:VEVENT
DTSTART;TZID=Europe/Helsinki:20180812T150000
DTEND;TZID=Europe/Helsinki:20180812T170000
DTSTAMP:20260423T135522
CREATED:20180321T145745Z
LAST-MODIFIED:20180321T145745Z
UID:5225-1534086000-1534093200@spd-oberneuland.de
SUMMARY:Aktion: "Wo drückt der Schuh?"
DESCRIPTION:Die SPD möchte mit den Bürgerinnen und Bürger auch 2018 wieder stark ins Gespräch kommen. Dafür organisieren wir in Oberneuland seit 10 Jahren den „Roten Schuh“ und kommen zu Ihnen auf Plätze\, vor Bäckereien\, Supermärkten etc. \n„Wo drückt der Schuh?“ Haben Sie Fragen\, Anregungen\, Kritik\, Verbesserungsvorschläge für Borgfeld\, Horn-Lehe und Oberneuland? \nWir sind da und hören Ihnen zu!
URL:https://spd-oberneuland.de/event/aktion-wo-drueckt-der-schuh-28/
LOCATION:Schevemoor\, Schevemoorer Landstraße 14-20\, Bremen\, 28325\, Deutschland
ATTACH;FMTTYPE=image/jpeg:https://spd-oberneuland.de/wp-content/uploads/2010/04/BILD20841.jpg
END:VEVENT
BEGIN:VEVENT
DTSTART;TZID=Europe/Helsinki:20180818T100000
DTEND;TZID=Europe/Helsinki:20180818T120000
DTSTAMP:20260423T135522
CREATED:20180321T145904Z
LAST-MODIFIED:20180321T145904Z
UID:5227-1534586400-1534593600@spd-oberneuland.de
SUMMARY:Aktion: "Wo drückt der Schuh?"
DESCRIPTION:Die SPD möchte mit den Bürgerinnen und Bürger auch 2018 wieder stark ins Gespräch kommen. Dafür organisieren wir in Oberneuland seit 10 Jahren den „Roten Schuh“ und kommen zu Ihnen auf Plätze\, vor Bäckereien\, Supermärkten etc. \n„Wo drückt der Schuh?“ Haben Sie Fragen\, Anregungen\, Kritik\, Verbesserungsvorschläge für Borgfeld\, Horn-Lehe und Oberneuland? \nWir sind da und hören Ihnen zu!
URL:https://spd-oberneuland.de/event/aktion-wo-drueckt-der-schuh-29/
LOCATION:Rewe-Markt in Borgfeld
ATTACH;FMTTYPE=image/jpeg:https://spd-oberneuland.de/wp-content/uploads/2010/04/BILD20841.jpg
END:VEVENT
BEGIN:VEVENT
DTSTART;TZID=Europe/Helsinki:20180818T140000
DTEND;TZID=Europe/Helsinki:20180818T170000
DTSTAMP:20260423T135522
CREATED:20180321T150024Z
LAST-MODIFIED:20180321T150024Z
UID:5229-1534600800-1534611600@spd-oberneuland.de
SUMMARY:Aktion: "Wo drückt der Schuh?"
DESCRIPTION:Die SPD möchte mit den Bürgerinnen und Bürger auch 2018 wieder stark ins Gespräch kommen. Dafür organisieren wir in Oberneuland seit 10 Jahren den „Roten Schuh“ und kommen zu Ihnen auf Plätze\, vor Bäckereien\, Supermärkten etc. \n„Wo drückt der Schuh?“ Haben Sie Fragen\, Anregungen\, Kritik\, Verbesserungsvorschläge für Borgfeld\, Horn-Lehe und Oberneuland? \nWir sind da und hören Ihnen zu!
URL:https://spd-oberneuland.de/event/aktion-wo-drueckt-der-schuh-30/
LOCATION:Rewe-Markt in der Wilhelm-Röntgen-Straße
ATTACH;FMTTYPE=image/jpeg:https://spd-oberneuland.de/wp-content/uploads/2010/04/BILD20841.jpg
END:VEVENT
BEGIN:VEVENT
DTSTART;TZID=Europe/Helsinki:20180825T100000
DTEND;TZID=Europe/Helsinki:20180825T130000
DTSTAMP:20260423T135522
CREATED:20180106T184808Z
LAST-MODIFIED:20180106T184808Z
UID:5056-1535191200-1535202000@spd-oberneuland.de
SUMMARY:Die Aktion "Wo drückt der Schuh?"
DESCRIPTION:Die SPD möchte mit den Bürgerinnen und Bürger auch 2018 wieder stark ins Gespräch kommen. Dafür organisieren wir in Oberneuland seit 10 Jahren den „Roten Schuh“ und kommen zu Ihnen auf Plätze\, vor Bäckereien\, Supermärkten etc. \n„Wo drückt der Schuh?“ Haben Sie Fragen\, Anregungen\, Kritik\, Verbesserungsvorschläge für Borgfeld\, Horn-Lehe und Oberneuland? \nWir sind da und hören Ihnen zu!
URL:https://spd-oberneuland.de/event/die-aktion-wo-drueckt-der-schuh-3/
LOCATION:Lestra\, Berckstraße\, Bremen
ATTACH;FMTTYPE=image/jpeg:https://spd-oberneuland.de/wp-content/uploads/2010/04/BILD20842.jpg
END:VEVENT
BEGIN:VEVENT
DTSTART;TZID=Europe/Helsinki:20180828T193000
DTEND;TZID=Europe/Helsinki:20180828T210000
DTSTAMP:20260423T135522
CREATED:20180106T182910Z
LAST-MODIFIED:20180810T081910Z
UID:5041-1535484600-1535490000@spd-oberneuland.de
SUMMARY:Sitzung der SPD Oberneuland
DESCRIPTION:
URL:https://spd-oberneuland.de/event/sitzung-der-spd-oberneuland-14/
LOCATION:Goedeken´s Restaurant\, Berckstraße 4\, 28357 Bremen
ATTACH;FMTTYPE=image/png:https://spd-oberneuland.de/wp-content/uploads/2018/01/SPD-Oberneuland.png
END:VEVENT
END:VCALENDAR