BEGIN:VCALENDAR
VERSION:2.0
PRODID:-//SPD Oberneuland - ECPv6.15.20//NONSGML v1.0//EN
CALSCALE:GREGORIAN
METHOD:PUBLISH
X-ORIGINAL-URL:https://spd-oberneuland.de
X-WR-CALDESC:Veranstaltungen für SPD Oberneuland
REFRESH-INTERVAL;VALUE=DURATION:PT1H
X-Robots-Tag:noindex
X-PUBLISHED-TTL:PT1H
BEGIN:VTIMEZONE
TZID:Europe/Helsinki
BEGIN:DAYLIGHT
TZOFFSETFROM:+0200
TZOFFSETTO:+0300
TZNAME:EEST
DTSTART:20170326T010000
END:DAYLIGHT
BEGIN:STANDARD
TZOFFSETFROM:+0300
TZOFFSETTO:+0200
TZNAME:EET
DTSTART:20171029T010000
END:STANDARD
BEGIN:DAYLIGHT
TZOFFSETFROM:+0200
TZOFFSETTO:+0300
TZNAME:EEST
DTSTART:20180325T010000
END:DAYLIGHT
BEGIN:STANDARD
TZOFFSETFROM:+0300
TZOFFSETTO:+0200
TZNAME:EET
DTSTART:20181028T010000
END:STANDARD
BEGIN:DAYLIGHT
TZOFFSETFROM:+0200
TZOFFSETTO:+0300
TZNAME:EEST
DTSTART:20190331T010000
END:DAYLIGHT
BEGIN:STANDARD
TZOFFSETFROM:+0300
TZOFFSETTO:+0200
TZNAME:EET
DTSTART:20191027T010000
END:STANDARD
END:VTIMEZONE
BEGIN:VEVENT
DTSTART;TZID=Europe/Helsinki:20180901T080000
DTEND;TZID=Europe/Helsinki:20180901T100000
DTSTAMP:20260423T122655
CREATED:20180109T171351Z
LAST-MODIFIED:20180110T070911Z
UID:5061-1535788800-1535796000@spd-oberneuland.de
SUMMARY:Die Aktion "Wo drückt der Schuh?"
DESCRIPTION:Die SPD möchte mit den Bürgerinnen und Bürger auch 2018 wieder stark ins Gespräch kommen. Dafür organisieren wir in Oberneuland seit 10 Jahren den „Roten Schuh“ und kommen zu Ihnen auf Plätze\, vor Bäckereien\, Supermärkten etc. \n„Wo drückt der Schuh?“ Haben Sie Fragen\, Anregungen\, Kritik\, Verbesserungsvorschläge für Borgfeld\, Horn-Lehe und Oberneuland? \nWir sind da und hören Ihnen zu!
URL:https://spd-oberneuland.de/event/die-aktion-wo-drueckt-der-schuh-5/
LOCATION:Bremer Backhaus Apfelallee\, Oberneulander Heerstraße 35\, Bremen\, Bremen\, 28355\, Deutschland
ATTACH;FMTTYPE=image/jpeg:https://spd-oberneuland.de/wp-content/uploads/2010/04/BILD20842.jpg
END:VEVENT
BEGIN:VEVENT
DTSTART;TZID=Europe/Helsinki:20180911T193000
DTEND;TZID=Europe/Helsinki:20180911T210000
DTSTAMP:20260423T122655
CREATED:20180106T183055Z
LAST-MODIFIED:20180106T183055Z
UID:5043-1536694200-1536699600@spd-oberneuland.de
SUMMARY:Sitzung der SPD Oberneuland
DESCRIPTION:
URL:https://spd-oberneuland.de/event/sitzung-der-spd-oberneuland-15/
LOCATION:Goedeken´s Restaurant\, Berckstraße 4\, 28357 Bremen
ATTACH;FMTTYPE=image/png:https://spd-oberneuland.de/wp-content/uploads/2018/01/SPD-Oberneuland.png
END:VEVENT
BEGIN:VEVENT
DTSTART;TZID=Europe/Helsinki:20180915T100000
DTEND;TZID=Europe/Helsinki:20180915T120000
DTSTAMP:20260423T122655
CREATED:20180321T150134Z
LAST-MODIFIED:20180321T150134Z
UID:5231-1537005600-1537012800@spd-oberneuland.de
SUMMARY:Aktion: "Wo drückt der Schuh?"
DESCRIPTION:Die SPD möchte mit den Bürgerinnen und Bürger auch 2018 wieder stark ins Gespräch kommen. Dafür organisieren wir in Oberneuland seit 10 Jahren den „Roten Schuh“ und kommen zu Ihnen auf Plätze\, vor Bäckereien\, Supermärkten etc. \n„Wo drückt der Schuh?“ Haben Sie Fragen\, Anregungen\, Kritik\, Verbesserungsvorschläge für Borgfeld\, Horn-Lehe und Oberneuland? \nWir sind da und hören Ihnen zu!
URL:https://spd-oberneuland.de/event/aktion-wo-drueckt-der-schuh-31/
LOCATION:Rewe-Markt in Borgfeld
ATTACH;FMTTYPE=image/jpeg:https://spd-oberneuland.de/wp-content/uploads/2010/04/BILD20841.jpg
END:VEVENT
BEGIN:VEVENT
DTSTART;TZID=Europe/Helsinki:20180922T090000
DTEND;TZID=Europe/Helsinki:20180922T120000
DTSTAMP:20260423T122655
CREATED:20180321T150244Z
LAST-MODIFIED:20180321T150244Z
UID:5233-1537606800-1537617600@spd-oberneuland.de
SUMMARY:Aktion: "Wo drückt der Schuh?"
DESCRIPTION:Die SPD möchte mit den Bürgerinnen und Bürger auch 2018 wieder stark ins Gespräch kommen. Dafür organisieren wir in Oberneuland seit 10 Jahren den „Roten Schuh“ und kommen zu Ihnen auf Plätze\, vor Bäckereien\, Supermärkten etc. \n„Wo drückt der Schuh?“ Haben Sie Fragen\, Anregungen\, Kritik\, Verbesserungsvorschläge für Borgfeld\, Horn-Lehe und Oberneuland? \nWir sind da und hören Ihnen zu!
URL:https://spd-oberneuland.de/event/aktion-wo-drueckt-der-schuh-32/
LOCATION:Spar Markt  in der Mühlenfeldstraße\, Mühlenfeldstraße\, Bremen\, 28355\, Deutschland
ATTACH;FMTTYPE=image/jpeg:https://spd-oberneuland.de/wp-content/uploads/2010/04/BILD20841.jpg
END:VEVENT
BEGIN:VEVENT
DTSTART;TZID=Europe/Helsinki:20180923T080000
DTEND;TZID=Europe/Helsinki:20180923T100000
DTSTAMP:20260423T122655
CREATED:20180321T150351Z
LAST-MODIFIED:20180321T150351Z
UID:5235-1537689600-1537696800@spd-oberneuland.de
SUMMARY:Aktion: "Wo drückt der Schuh?"
DESCRIPTION:Die SPD möchte mit den Bürgerinnen und Bürger auch 2018 wieder stark ins Gespräch kommen. Dafür organisieren wir in Oberneuland seit 10 Jahren den „Roten Schuh“ und kommen zu Ihnen auf Plätze\, vor Bäckereien\, Supermärkten etc. \n„Wo drückt der Schuh?“ Haben Sie Fragen\, Anregungen\, Kritik\, Verbesserungsvorschläge für Borgfeld\, Horn-Lehe und Oberneuland? \nWir sind da und hören Ihnen zu!
URL:https://spd-oberneuland.de/event/aktion-wo-drueckt-der-schuh-33/
LOCATION:Geschäftszeile im Nedderland\, Stadtländerstraße 3\, Bremen\, 28355\, Deutschland
ATTACH;FMTTYPE=image/jpeg:https://spd-oberneuland.de/wp-content/uploads/2010/04/BILD20841.jpg
END:VEVENT
END:VCALENDAR