BEGIN:VCALENDAR
VERSION:2.0
PRODID:-//SPD Oberneuland - ECPv6.15.20//NONSGML v1.0//EN
CALSCALE:GREGORIAN
METHOD:PUBLISH
X-WR-CALNAME:SPD Oberneuland
X-ORIGINAL-URL:https://spd-oberneuland.de
X-WR-CALDESC:Veranstaltungen für SPD Oberneuland
REFRESH-INTERVAL;VALUE=DURATION:PT1H
X-Robots-Tag:noindex
X-PUBLISHED-TTL:PT1H
BEGIN:VTIMEZONE
TZID:Europe/Helsinki
BEGIN:DAYLIGHT
TZOFFSETFROM:+0200
TZOFFSETTO:+0300
TZNAME:EEST
DTSTART:20190331T010000
END:DAYLIGHT
BEGIN:STANDARD
TZOFFSETFROM:+0300
TZOFFSETTO:+0200
TZNAME:EET
DTSTART:20191027T010000
END:STANDARD
BEGIN:DAYLIGHT
TZOFFSETFROM:+0200
TZOFFSETTO:+0300
TZNAME:EEST
DTSTART:20200329T010000
END:DAYLIGHT
BEGIN:STANDARD
TZOFFSETFROM:+0300
TZOFFSETTO:+0200
TZNAME:EET
DTSTART:20201025T010000
END:STANDARD
BEGIN:DAYLIGHT
TZOFFSETFROM:+0200
TZOFFSETTO:+0300
TZNAME:EEST
DTSTART:20210328T010000
END:DAYLIGHT
BEGIN:STANDARD
TZOFFSETFROM:+0300
TZOFFSETTO:+0200
TZNAME:EET
DTSTART:20211031T010000
END:STANDARD
END:VTIMEZONE
BEGIN:VEVENT
DTSTART;VALUE=DATE:20201008
DTEND;VALUE=DATE:20201009
DTSTAMP:20260420T110644
CREATED:20200212T125145Z
LAST-MODIFIED:20201007T181642Z
UID:6665-1602115200-1602201599@spd-oberneuland.de
SUMMARY:KEINE TEILNAHME an der Nachtwächterführung
DESCRIPTION:Die SPD Oberneuland organisiert für ihre Mitglieder eine Nachtwächter-Erlebnisführung durch die Historie Bremens: Schauspiel\, Spaß & Faszination. Es handelt sich dabei um eine öffentliche Veranstaltung\, an der wir teilnehmen. \nAufgrund der aktuellen Coronazahlen wird der Ortsverein Oberneuland nicht an der Nachwächerführung teilnehmen. Einzelpersonen können natürlich selbst entscheiden. \nDie Nachtwächter Erlebnisführung: Es ist das Jahr 1833\, Georg Uhlenkop war Nachtwächter in Bremens altem Hafenrevier Schlachte. Er ist ein Bremer Urgestein und war in seiner Zeit allerdings weit besser bekannt als Nachtwächter Schorse. Von den lichten Schauplätzen am Marktplatz streift er heute über das Schnoorviertel hinunter in sein altes Revier und führt dabei mit geschliffenen Texten\, kräftiger Stimme und einem herzhaften Schuss Mutterwitz seine Gäste in längst vergangene Zeiten. \nEine Einladung erfolgt per Newsletter. \n 
URL:https://spd-oberneuland.de/event/nachtwaechterfuehrung/
LOCATION:Bremen
ATTACH;FMTTYPE=image/jpeg:https://spd-oberneuland.de/wp-content/uploads/2020/02/Nachtwächtergang.jpg
END:VEVENT
BEGIN:VEVENT
DTSTART;TZID=Europe/Helsinki:20201008T150000
DTEND;TZID=Europe/Helsinki:20201008T203000
DTSTAMP:20260420T110644
CREATED:20200919T084241Z
LAST-MODIFIED:20201007T182209Z
UID:7068-1602169200-1602189000@spd-oberneuland.de
SUMMARY:coronabedingte ABSAGE: Veranstaltung von Joachim Schuster (MdEP): »Gutes T-Shirt — Böses T-Shirt«
DESCRIPTION:Die Veranstaltung mit unserem Europaabgeordneten Joachim Schuster entfällt aufgrund der hohen Fallzahlen. \nTextilien werden ofmals unter menschenunwürdigen Bedingungen hergestellt. Auf der von unserem EU-Abgeordneten initiierten Konferenz »Gutes T-Shirt — Böses T-Shirt« wird mit Vertreter*innen von Zivilgesellschaft\, Politik und Wirtschaft diskutiert\, wie menschenwürdige Arbeitsbedingungen überall auf der Welt durchgesetzt werden können. \nDie Konferenz findet am Donnerstag\, 8. Oktober 2020\, 15:00 bis 20:30 Uhr im Congress Centrum Bremen\, Theodor-Heuss-Allee 15\, 28215 Bremen\, statt. \nAnmeldungen sind bis zum 1. Oktober unter jonas.nebel@joachim-schuster.eu möglich.
URL:https://spd-oberneuland.de/event/veranstaltung-von-joachim-schuster-mdep-gutes-t-shirt-boeses-t-shirt-2/
LOCATION:Congress Centrum Bremen\, Theodor-Heuss-Allee 15\, Bremen\, Bremen\, 28215\, Deutschland
ATTACH;FMTTYPE=image/jpeg:https://spd-oberneuland.de/wp-content/uploads/2015/09/klein20140716_EP-008730A_MCU_085.jpg
END:VEVENT
BEGIN:VEVENT
DTSTART;TZID=Europe/Helsinki:20201010T100000
DTEND;TZID=Europe/Helsinki:20201010T170000
DTSTAMP:20260420T110644
CREATED:20200919T084513Z
LAST-MODIFIED:20201007T170743Z
UID:7071-1602324000-1602349200@spd-oberneuland.de
SUMMARY:coronabedingte ABSAGE: Landesparteitag der Bremer SPD
DESCRIPTION:
URL:https://spd-oberneuland.de/event/landesparteitag-der-bremer-spd-3/
LOCATION:NN
END:VEVENT
BEGIN:VEVENT
DTSTART;TZID=Europe/Helsinki:20201013T193000
DTEND;TZID=Europe/Helsinki:20201013T213000
DTSTAMP:20260420T110644
CREATED:20201011T154749Z
LAST-MODIFIED:20201011T154749Z
UID:7098-1602617400-1602624600@spd-oberneuland.de
SUMMARY:Mitgliederversammlung per Videokonferenz
DESCRIPTION:Trotz Corona und den hohen Fallzahlen wollen wir natürlich uns weiter für den Stadtteil einsetzen. \nEs stellen sich für uns aktuell folgende Fragen: \n\nGibt es neue Aufgabengebiete oder Aktionen bei der Mitgliederbetreuung\, die der Ortsverein jetzt organisieren sollte?\nWelche Veranstaltungsformate\,Themen und Gäste würden auch die Oberneulander*innen per Videokonferenz interessieren?\nWie organisieren wir Bürgerbeteiligung in Coronazeiten?\nGibt es neue Ideen für kontaktlose oder -arme Aktionen für den Stadtteil\, die wir 2021 als Ortsverein in Oberneuland organisieren können?
URL:https://spd-oberneuland.de/event/mitgliederversammlung-per-videokonferenz/
LOCATION:Videokonferenz
ATTACH;FMTTYPE=image/png:https://spd-oberneuland.de/wp-content/uploads/2020/06/Mitglieder-Videokonferenz.png
END:VEVENT
BEGIN:VEVENT
DTSTART;TZID=Europe/Helsinki:20201014T140000
DTEND;TZID=Europe/Helsinki:20201014T170000
DTSTAMP:20260420T110644
CREATED:20201004T105527Z
LAST-MODIFIED:20201007T181927Z
UID:7078-1602684000-1602694800@spd-oberneuland.de
SUMMARY:coronabedingte ABSAGE: SPD-Fahrradtour zu den wichtigsten verkehrspolitischen Punkten mit Anja Schiemann (MdBB) und Derik Eicke
DESCRIPTION:Aufgrund der aktuellen Zahlen wird die geplante verkehrspolitische Fahrradtour abgesagt. Natürlich wird diese schnellstmöglichst nachgeholt. \nDer Beirat Oberneuland hat eine sehr umfassende und weitreichende Stellungnahme zum Verkehrsentwicklungsplan 2025 (VEP 2025) abgegeben. \nSie umschreibt unsere Zukunftsvision einer Verkehrswende hin zu einem gleichberechtigten Miteinander von Fußgänger*innen\, Fahrradfahrer*innen und Autofahrer*innen. Die vollständige Stellungnahme mit einer starken SPD-Handschrift finden Sie hier: Stellungnahme VEP 2025 \nAm 14.10.2020 ab 14.00 Uhr wird nun der Oberneulander SPD Vorsitzende Derik Eicke mit der Bürgerschaftsabgeordneten und verkehrspolitischen Sprecherin Anja Schiemann eine Fahrradtour durch den Stadtteil machen\, um sich die wichtigsten Themen des VEP 2025 anzuschauen. Ziel der SPD Oberneuland ist es\, dass auch endlich weitreichende Verkehrsmaßnahmen am Rande der Stadt angeschoben werden\, und nicht nur in der Innenstadt. \nFür die SPD Oberneuland ist es wichtig eine starke Bürgerbeteiligung zu organisieren. Daher haben alle Oberneulander*innen die Möglichkeit problematische Verkehrsbereiche im Vorfeld der Tour zu nennen. Diese werden dann in die Route am 14.10. eingebunden. Einfach eine Email an eicke@spd-oberneuland.de. Die endgültige Route mit den ungefähren Uhrzeiten wird am 12.10. hier veröffentlicht. Es besteht natürlich die Möglichkeit vor Ort zu sein und mit Anja Schiemann und Derik Eicke zu sprechen. \nDes Weiteren informiert der Newsletter „Oberneulander Rotkehlchen“\, der 2mal im Monat verschickt wird\,  über die Route und weitere politische Themen. Anmelden kann man sich für den Newsletter ganz einfach mit eine Email an eicke@spd-oberneuland.de mit dem Betreff „Oberneulander Rotkehlchen“
URL:https://spd-oberneuland.de/event/spd-fahrradtour-zu-den-wichtigsten-verkehrspolitischen-punkten-mit-anja-schiemann-mdbb-und-derik-eicke/
LOCATION:Bremen
ATTACH;FMTTYPE=image/jpeg:https://spd-oberneuland.de/wp-content/uploads/2020/10/2020-Fahrradtour.jpg
END:VEVENT
BEGIN:VEVENT
DTSTART;VALUE=DATE:20201027
DTEND;VALUE=DATE:20201028
DTSTAMP:20260420T110644
CREATED:20200811T063943Z
LAST-MODIFIED:20200811T063943Z
UID:7007-1603756800-1603843199@spd-oberneuland.de
SUMMARY:Beiratssitzung
DESCRIPTION:Den Sitzungsort und die Uhrzeit veröffentlicht das Ortsamt Oberneuland mit der Einladung. \nHier findet man alle Informationen: Oberneulander Sitzungen
URL:https://spd-oberneuland.de/event/beiratssitzung-10/
LOCATION:Bremen
ATTACH;FMTTYPE=image/jpeg:https://spd-oberneuland.de/wp-content/uploads/2020/08/315x225_Oberneuland.jpg
END:VEVENT
END:VCALENDAR