BEGIN:VCALENDAR
VERSION:2.0
PRODID:-//SPD Oberneuland - ECPv6.15.20//NONSGML v1.0//EN
CALSCALE:GREGORIAN
METHOD:PUBLISH
X-ORIGINAL-URL:https://spd-oberneuland.de
X-WR-CALDESC:Veranstaltungen für SPD Oberneuland
REFRESH-INTERVAL;VALUE=DURATION:PT1H
X-Robots-Tag:noindex
X-PUBLISHED-TTL:PT1H
BEGIN:VTIMEZONE
TZID:Europe/Helsinki
BEGIN:DAYLIGHT
TZOFFSETFROM:+0200
TZOFFSETTO:+0300
TZNAME:EEST
DTSTART:20200329T010000
END:DAYLIGHT
BEGIN:STANDARD
TZOFFSETFROM:+0300
TZOFFSETTO:+0200
TZNAME:EET
DTSTART:20201025T010000
END:STANDARD
BEGIN:DAYLIGHT
TZOFFSETFROM:+0200
TZOFFSETTO:+0300
TZNAME:EEST
DTSTART:20210328T010000
END:DAYLIGHT
BEGIN:STANDARD
TZOFFSETFROM:+0300
TZOFFSETTO:+0200
TZNAME:EET
DTSTART:20211031T010000
END:STANDARD
BEGIN:DAYLIGHT
TZOFFSETFROM:+0200
TZOFFSETTO:+0300
TZNAME:EEST
DTSTART:20220327T010000
END:DAYLIGHT
BEGIN:STANDARD
TZOFFSETFROM:+0300
TZOFFSETTO:+0200
TZNAME:EET
DTSTART:20221030T010000
END:STANDARD
END:VTIMEZONE
BEGIN:VEVENT
DTSTART;TZID=Europe/Helsinki:20210105T200000
DTEND;TZID=Europe/Helsinki:20210105T210000
DTSTAMP:20260422T131310
CREATED:20210105T214018Z
LAST-MODIFIED:20210105T214018Z
UID:7303-1609876800-1609880400@spd-oberneuland.de
SUMMARY:Fraktionssitzung der SPD Oberneuland
DESCRIPTION:Hinweise: \n\nAufgrund der Coronazahlen planen wir das Jahr 2021 digital\, d.h. viele unserer Veranstaltungen finden per Videokonferenz statt.\nDie Tagesordnung wird zeitnah hier und über den Newsletter „Oberneulander ROTkehlchen“ veröffentlicht.\nHier findet man dann auch den Zugangslink für die Videokonferenz\, den man einfach nur anklicken muss.\nDie Sitzungen sind kurz & knackig und sind für 60 Minuten geplant.\nNatürlich stehen auch unsere Videokonferenzen allen interessierten Oberneulander*innen offen. Wir freuen uns\, wenn Sie Zeit & Lust haben uns kennenzulernen.
URL:https://spd-oberneuland.de/event/fraktionssitzung-der-spd-oberneuland-2/
LOCATION:öffentliche Videokonferenz
ATTACH;FMTTYPE=image/png:https://spd-oberneuland.de/wp-content/uploads/2020/11/SPD-Oberneuland-Quadrat-e1675083113656.png
END:VEVENT
BEGIN:VEVENT
DTSTART;TZID=Europe/Helsinki:20210119T190000
DTEND;TZID=Europe/Helsinki:20210119T210000
DTSTAMP:20260422T131310
CREATED:20210105T214924Z
LAST-MODIFIED:20210105T214924Z
UID:7305-1611082800-1611090000@spd-oberneuland.de
SUMMARY:Beiratssitzung
DESCRIPTION:Die Einladung\, die Tagesordnung und ggf. den Zugang zur Videokonferenz findet man auf der Homepage des Ortsamtes Oberneuland. \nhier bitte klicken \nSollte eine Beiratssitzung ausfallen wird es dort vermerkt sein.
URL:https://spd-oberneuland.de/event/beiratssitzung-12/
LOCATION:NN
END:VEVENT
END:VCALENDAR