BEGIN:VCALENDAR
VERSION:2.0
PRODID:-//SPD Oberneuland - ECPv6.15.20//NONSGML v1.0//EN
CALSCALE:GREGORIAN
METHOD:PUBLISH
X-ORIGINAL-URL:https://spd-oberneuland.de
X-WR-CALDESC:Veranstaltungen für SPD Oberneuland
REFRESH-INTERVAL;VALUE=DURATION:PT1H
X-Robots-Tag:noindex
X-PUBLISHED-TTL:PT1H
BEGIN:VTIMEZONE
TZID:Europe/Helsinki
BEGIN:DAYLIGHT
TZOFFSETFROM:+0200
TZOFFSETTO:+0300
TZNAME:EEST
DTSTART:20200329T010000
END:DAYLIGHT
BEGIN:STANDARD
TZOFFSETFROM:+0300
TZOFFSETTO:+0200
TZNAME:EET
DTSTART:20201025T010000
END:STANDARD
BEGIN:DAYLIGHT
TZOFFSETFROM:+0200
TZOFFSETTO:+0300
TZNAME:EEST
DTSTART:20210328T010000
END:DAYLIGHT
BEGIN:STANDARD
TZOFFSETFROM:+0300
TZOFFSETTO:+0200
TZNAME:EET
DTSTART:20211031T010000
END:STANDARD
BEGIN:DAYLIGHT
TZOFFSETFROM:+0200
TZOFFSETTO:+0300
TZNAME:EEST
DTSTART:20220327T010000
END:DAYLIGHT
BEGIN:STANDARD
TZOFFSETFROM:+0300
TZOFFSETTO:+0200
TZNAME:EET
DTSTART:20221030T010000
END:STANDARD
END:VTIMEZONE
BEGIN:VEVENT
DTSTART;TZID=Europe/Helsinki:20210203T183000
DTEND;TZID=Europe/Helsinki:20210203T193000
DTSTAMP:20260422T141703
CREATED:20210126T175726Z
LAST-MODIFIED:20210129T162542Z
UID:7339-1612377000-1612380600@spd-oberneuland.de
SUMMARY:LIVE auf dem YouTube-Kanal: Derik Eicke im Gespräch mit Sönke Hofmann (Nabu Bremen): "Naturschutz im eigenen Garten"
DESCRIPTION:In der Veranstaltungsreihe geht es dieses Mal um den Naturschutz. \nMit Sönke Hofmann (Geschäftsführer Nabu Bremen) hat Derik Eicke einen kompetenten Gesprächspartner\, um den Naturschutz im eigenen Garten zu besprechen. Wie gestalte ich meinen Garten\, um einen Beitrag zum Vogel- und Insektenschutz zu leisten. Welche Pflanzen sollte man haben? Welche auf gar keinen Fall? \nDie Veranstaltung wird live auf unserem YouTube-Kanal gesendet. Einfach nur anklicken – man wird direkt weitergeleitet. Hier bitte klicken. \nDie Vorteile sind: \n\nniemand muss sich mit einem Passwort in eine Videokonferenz anmelden.\nYouTube funktioniert ganz einfach wie „Fernsehen“.\nDie Sendung wird bei YouTube in einer Mediathek gespeichert\, d.h. man kann sich die Sendung auch zu einem späteren Zeitpunkt ansehen.\n\n  \n 
URL:https://spd-oberneuland.de/event/live-auf-dem-youtube-kanal-derik-eicke-im-gespraech-mit-soenke-hofmann-nabu-bremen-naturschutz-im-eigenen-garten/
LOCATION:YouTube-Kanal der SPD Oberneuland
ATTACH;FMTTYPE=image/png:https://spd-oberneuland.de/wp-content/uploads/2021/01/21-02-03-Soenke-Hofmann-1.png
END:VEVENT
BEGIN:VEVENT
DTSTART;VALUE=DATE:20210209
DTEND;VALUE=DATE:20210210
DTSTAMP:20260422T141704
CREATED:20210128T074615Z
LAST-MODIFIED:20210128T074615Z
UID:7347-1612828800-1612915199@spd-oberneuland.de
SUMMARY:Digitale Angebote auf kommunaler Ebene - Derik Eicke zu Gast bei der SPD Leutenbach / Baden-Württemberg
DESCRIPTION:Der Ortsverein Leutenbach möchte sich zu den digitalen Möglichkeiten auf kommunaler Ebene austauschen. \nVor 1 Jahr wäre dies noch undenkbar gewesen. Nun macht man wie selbstverständlich einfach eine Videokonferenz. \n 
URL:https://spd-oberneuland.de/event/digitale-angebote-auf-kommunaler-ebene-derik-eicke-zu-gast-bei-der-spd-leutenbach-baden-wuerttemberg/
LOCATION:Videokonferenz
ATTACH;FMTTYPE=image/jpeg:https://spd-oberneuland.de/wp-content/uploads/2020/10/handshake-3382503_1920.jpg
END:VEVENT
BEGIN:VEVENT
DTSTART;TZID=Europe/Helsinki:20210215T200000
DTEND;TZID=Europe/Helsinki:20210215T210000
DTSTAMP:20260422T141704
CREATED:20210105T213457Z
LAST-MODIFIED:20210215T070414Z
UID:7298-1613419200-1613422800@spd-oberneuland.de
SUMMARY:Fraktionssitzung der SPD Oberneuland
DESCRIPTION:Hinweise: \n\nAufgrund der Coronazahlen planen wir das Jahr 2021 digital\, d.h. viele unserer Veranstaltungen finden per Videokonferenz statt.\nDie Tagesordnung wird zeitnah hier und über den Newsletter „Oberneulander ROTkehlchen“ veröffentlicht.\nHier findet man dann auch den Zugangslink für die Videokonferenz\, den man einfach nur anklicken muss.\nDie Sitzungen sind kurz & knackig und sind für 60 Minuten geplant.\nNatürlich stehen auch unsere Videokonferenzen allen interessierten Oberneulander*innen offen. Wir freuen uns\, wenn Sie Zeit & Lust haben uns kennenzulernen.
URL:https://spd-oberneuland.de/event/fraktionssitzung-der-spd-oberneuland/
LOCATION:öffentliche Videokonferenz
ATTACH;FMTTYPE=image/png:https://spd-oberneuland.de/wp-content/uploads/2020/11/SPD-Oberneuland-Quadrat-e1675083113656.png
END:VEVENT
BEGIN:VEVENT
DTSTART;TZID=Europe/Helsinki:20210216T190000
DTEND;TZID=Europe/Helsinki:20210216T210000
DTSTAMP:20260422T141704
CREATED:20210108T205950Z
LAST-MODIFIED:20210108T205950Z
UID:7324-1613502000-1613509200@spd-oberneuland.de
SUMMARY:Ausschusssitzung Stadtteilentwicklung\, Umwelt\, Verkehr und Landwirtschaft
DESCRIPTION:Die Tagesordnung\, den Sitzungsort etc. findet man auf der Seite des Ortsamtes Oberneuland. Sollte die Sitzung durch Corona per Videokonferenz stattfinden gibt es auf der Ortsamtshomepage alle Informationen und Zugangsdaten. \nHier finden man die Tagesordnung der Sitzung.
URL:https://spd-oberneuland.de/event/ausschusssitzung-stadtteilentwicklung-umwelt-verkehr-und-landwirtschaft/
LOCATION:NN
END:VEVENT
BEGIN:VEVENT
DTSTART;TZID=Europe/Helsinki:20210220T140000
DTEND;TZID=Europe/Helsinki:20210220T150000
DTSTAMP:20260422T141704
CREATED:20201015T113535Z
LAST-MODIFIED:20210126T155259Z
UID:7102-1613829600-1613833200@spd-oberneuland.de
SUMMARY:Jahreshauptversammlung der SPD Oberneuland
DESCRIPTION:Die Jahreshauptversammlung muss als Präsenzveranstaltung durchgeführt werden\, da die Delegierten nicht per Videokonfernz o.ä. gewählt werden dürfen. \nDieses ist aufgrund von Corona schwierig. Daher werden wir die Versammlung kurz & knackig draußen an der frischen Luft mit viel Abstand durchführen. \n  \nVorläufige Tagesordnung: \n\nBegrüßung und Wahl einer Versammlungsleiterin / eines Versammlungsleiters\nDas Jahr 2020\n\nBericht des Vorsitzenden (liegt bereits durch den Mitgliederbrief 01/2021 schriftlich vor)\nBericht des Kassierers\nBericht der Revisoren\nEntlastung des Vorstandes\n\n\nNachwahlen für den Vorstand\nDelegiertenwahl für die Aufstellung der Bundestagsliste\nVerschiedenes
URL:https://spd-oberneuland.de/event/jahreshauptversammlung-per-videokonferenz/
LOCATION:Lür-Kropp-Hof\, Rockwinkeler Landstr. 5\, Bremen\, Bremen\, 28355\, Deutschland
ATTACH;FMTTYPE=image/jpeg:https://spd-oberneuland.de/wp-content/uploads/2020/08/315x225_Oberneuland.jpg
END:VEVENT
BEGIN:VEVENT
DTSTART;TZID=Europe/Helsinki:20210222T183000
DTEND;TZID=Europe/Helsinki:20210222T193000
DTSTAMP:20260422T141704
CREATED:20210206T192212Z
LAST-MODIFIED:20210206T192342Z
UID:7357-1614018600-1614022200@spd-oberneuland.de
SUMMARY:LIVE: Derik Eicke im Gespräch mit Thorsten Lieder\, Geschäftsführer der Gastro-Gemeinschaft e.V. zum Thema "Gastronomie in Coronazeiten
DESCRIPTION:In der Veranstaltungsreihe geht es dieses Mal um die Situation der Bremer Gastronomen in der Coronazeit. \nMit dem Geschäftsführer der Gastro-Gemeinschaft e.V. Thorsten Lieder hat Derik Eicke einen kompetenten Gesprächspartner\, um die aktuelle Ausnahmesituation durch den Coronavirus zu besprechen. \nDie Veranstaltung wird live auf unserem YouTube-Kanal gesendet. Einfach hier klicken\, dann wird man automatisch weitergeleitet. \nFragen können wie immer im Vorfeld an eicke@spd-oberneuland gemailt werden. Derik Eicke baut sie dann an dem Abend ein. \nDie Vorteile sind: \n\nniemand muss sich mit einem Passwort in eine Videokonferenz anmelden.\nYouTube funktioniert ganz einfach wie „Fernsehen“.\nDie Sendung wird bei YouTube in einer Mediathek gespeichert\, d.h. man kann sich die Sendung auch zu einem späteren Zeitpunkt ansehen.
URL:https://spd-oberneuland.de/event/derik-eicke-im-gespraech-mit-thorsten-lieder-geschaeftsfuehrer-der-gastro-gemeinschaft-e-v-zum-thema-gastronomie-in-coronazeiten/
LOCATION:YouTube-Kanal der SPD Oberneuland
ATTACH;FMTTYPE=image/png:https://spd-oberneuland.de/wp-content/uploads/2021/02/21-02-22-Thorsten-Lieder.png
END:VEVENT
BEGIN:VEVENT
DTSTART;TZID=Europe/Helsinki:20210223T190000
DTEND;TZID=Europe/Helsinki:20210223T213000
DTSTAMP:20260422T141704
CREATED:20210105T215008Z
LAST-MODIFIED:20210105T215008Z
UID:7307-1614106800-1614115800@spd-oberneuland.de
SUMMARY:Beiratssitzung
DESCRIPTION:Die Einladung\, die Tagesordnung und ggf. den Zugang zur Videokonferenz findet man auf der Homepage des Ortsamtes Oberneuland. \nhier bitte klicken \nSollte eine Beiratssitzung ausfallen wird es dort vermerkt sein.
URL:https://spd-oberneuland.de/event/beiratssitzung-13/
LOCATION:NN
END:VEVENT
END:VCALENDAR