BEGIN:VCALENDAR
VERSION:2.0
PRODID:-//SPD Oberneuland - ECPv6.15.20//NONSGML v1.0//EN
CALSCALE:GREGORIAN
METHOD:PUBLISH
X-WR-CALNAME:SPD Oberneuland
X-ORIGINAL-URL:https://spd-oberneuland.de
X-WR-CALDESC:Veranstaltungen für SPD Oberneuland
REFRESH-INTERVAL;VALUE=DURATION:PT1H
X-Robots-Tag:noindex
X-PUBLISHED-TTL:PT1H
BEGIN:VTIMEZONE
TZID:Europe/Helsinki
BEGIN:DAYLIGHT
TZOFFSETFROM:+0200
TZOFFSETTO:+0300
TZNAME:EEST
DTSTART:20200329T010000
END:DAYLIGHT
BEGIN:STANDARD
TZOFFSETFROM:+0300
TZOFFSETTO:+0200
TZNAME:EET
DTSTART:20201025T010000
END:STANDARD
BEGIN:DAYLIGHT
TZOFFSETFROM:+0200
TZOFFSETTO:+0300
TZNAME:EEST
DTSTART:20210328T010000
END:DAYLIGHT
BEGIN:STANDARD
TZOFFSETFROM:+0300
TZOFFSETTO:+0200
TZNAME:EET
DTSTART:20211031T010000
END:STANDARD
BEGIN:DAYLIGHT
TZOFFSETFROM:+0200
TZOFFSETTO:+0300
TZNAME:EEST
DTSTART:20220327T010000
END:DAYLIGHT
BEGIN:STANDARD
TZOFFSETFROM:+0300
TZOFFSETTO:+0200
TZNAME:EET
DTSTART:20221030T010000
END:STANDARD
END:VTIMEZONE
BEGIN:VEVENT
DTSTART;VALUE=DATE:20210403
DTEND;VALUE=DATE:20210404
DTSTAMP:20260422T164644
CREATED:20201015T125349Z
LAST-MODIFIED:20201015T125349Z
UID:7127-1617408000-1617494399@spd-oberneuland.de
SUMMARY:111 Jahre SPD Oberneuland - 111 qm Blumenwiese auf Kaemenas Hof für Bienen & Insekten
DESCRIPTION:Als SPD Oberneuland arbeiten wir seit Jahren eng mit dem Bremer Imkerverein auf dem Lür-Kropp-Hof zusammen. In den letzten Jahren konnten wir durch Ortstermine mit Carsten Sieling und Andreas Bovenschulte einige Projekte und Anliegen für die Imker*innen eng begleiten und auch lösen. \nZusätzlich möchten wir direkt in Oberneuland den Lebensraum für die Insekten & Bienen verbessern. Eine Aktion ist die Finanzierung von 111 Quadratmetern Blühwiese bei unserem Landwirten Bea und Hajo Kaemena. Die Aussaat ist für April 2021 geplant und wir sind schon auf das Ergebnis sehr gespannt. \nMehr Infos unter: https://www.kaemena-blueht.de/ \n  \n 
URL:https://spd-oberneuland.de/event/111-jahre-spd-oberneuland-111-qm-blumenwiese-auf-kaemenas-hof-fuer-bienen-insekten/
LOCATION:Kaemenas Hof\, Gustav-Brandes-Weg 19\, Bremen\, Bremen\, 28355\, Deutschland
ATTACH;FMTTYPE=image/jpeg:https://spd-oberneuland.de/wp-content/uploads/2020/10/Blumenwiese.jpg
END:VEVENT
BEGIN:VEVENT
DTSTART;VALUE=DATE:20210410
DTEND;VALUE=DATE:20210411
DTSTAMP:20260422T164644
CREATED:20201015T142622Z
LAST-MODIFIED:20210405T161436Z
UID:7155-1618012800-1618099199@spd-oberneuland.de
SUMMARY:Start der Aktion "Die Rote Sonnenblume" 2021
DESCRIPTION:Die SPD Oberneuland organisiert auch 2021 die Aktion „Die Rote Sonnenblume“. \nKurze Information: \n\nDie Aktion ist eine Kombination aus Spendenaktion und Fotowettbewerb.\nGegen eine Sprende von 5\,- € (oder auch gerne mehr) erhält man eine Samentüte mit Sonnenblumenkernen. Die Oberneulander Händler\, bei denen die Tüten zu erhalten sind\, werden zeitnah veröffentlicht.\nDas Spendengeld erhält eine Einrichtung in Oberneuland.\nDie Sonnenblumenkerne gilt es dann zu pflanzen und im Herbst zu fotografieren.\nEine Jury wird ein Siegerbild küren. Der Preis für 2021 wird noch festgelegt.\n\nGenauere Informationen und der Ablauf folgen zeitnah.
URL:https://spd-oberneuland.de/event/start-der-aktion-die-rote-sonnenblume/
LOCATION:Bremen
ATTACH;FMTTYPE=image/png:https://spd-oberneuland.de/wp-content/uploads/2020/04/Die-Rote-Sonnenblume.png
END:VEVENT
BEGIN:VEVENT
DTSTART;TZID=Europe/Helsinki:20210420T190000
DTEND;TZID=Europe/Helsinki:20210420T210000
DTSTAMP:20260422T164644
CREATED:20210108T210218Z
LAST-MODIFIED:20210108T210218Z
UID:7326-1618945200-1618952400@spd-oberneuland.de
SUMMARY:Ausschusssitzung Stadtteilentwicklung\, Umwelt\, Verkehr und Landwirtschaft
DESCRIPTION:Die Tagesordnung\, den Sitzungsort etc. findet man auf der Seite des Ortsamtes Oberneuland. Sollte die Sitzung durch Corona per Videokonferenz stattfinden gibt es auf der Ortsamtshomepage alle Informationen und Zugangsdaten. \nHier finden man die Tagesordnung der Sitzung.
URL:https://spd-oberneuland.de/event/ausschusssitzung-stadtteilentwicklung-umwelt-verkehr-und-landwirtschaft-2/
LOCATION:NN
END:VEVENT
BEGIN:VEVENT
DTSTART;TZID=Europe/Helsinki:20210421T200000
DTEND;TZID=Europe/Helsinki:20210421T210000
DTSTAMP:20260422T164644
CREATED:20201015T114302Z
LAST-MODIFIED:20210105T213612Z
UID:7108-1619035200-1619038800@spd-oberneuland.de
SUMMARY:Fraktionssitzung der SPD Oberneuland
DESCRIPTION:Hinweise: \n\nAufgrund der Coronazahlen planen wir das Jahr 2021 digital\, d.h. viele unserer Veranstaltungen finden per Videokonferenz statt.\nDie Tagesordnung wird zeitnah hier und über den Newsletter „Oberneulander ROTkehlchen“ veröffentlicht.\nHier findet man dann auch den Zugangslink für die Videokonferenz\, den man einfach nur anklicken muss.\nDie Sitzungen sind kurz & knackig und sind für 60 Minuten geplant.\nNatürlich stehen auch unsere Videokonferenzen allen interessierten Oberneulander*innen offen. Wir freuen uns\, wenn Sie Zeit & Lust haben uns kennenzulernen.
URL:https://spd-oberneuland.de/event/sitzung-der-spd-oberneuland-24/
LOCATION:öffentliche Videokonferenz
ATTACH;FMTTYPE=image/png:https://spd-oberneuland.de/wp-content/uploads/2020/11/SPD-Oberneuland-Quadrat-e1675083113656.png
END:VEVENT
BEGIN:VEVENT
DTSTART;TZID=Europe/Helsinki:20210427T190000
DTEND;TZID=Europe/Helsinki:20210427T210000
DTSTAMP:20260422T164644
CREATED:20210105T215127Z
LAST-MODIFIED:20210105T215127Z
UID:7311-1619550000-1619557200@spd-oberneuland.de
SUMMARY:Beiratssitzung
DESCRIPTION:Die Einladung\, die Tagesordnung und ggf. den Zugang zur Videokonferenz findet man auf der Homepage des Ortsamtes Oberneuland. \nhier bitte klicken \nSollte eine Beiratssitzung ausfallen wird es dort vermerkt sein.
URL:https://spd-oberneuland.de/event/beiratssitzung-15/
LOCATION:NN
END:VEVENT
END:VCALENDAR