BEGIN:VCALENDAR
VERSION:2.0
PRODID:-//SPD Oberneuland - ECPv6.15.20//NONSGML v1.0//EN
CALSCALE:GREGORIAN
METHOD:PUBLISH
X-ORIGINAL-URL:https://spd-oberneuland.de
X-WR-CALDESC:Veranstaltungen für SPD Oberneuland
REFRESH-INTERVAL;VALUE=DURATION:PT1H
X-Robots-Tag:noindex
X-PUBLISHED-TTL:PT1H
BEGIN:VTIMEZONE
TZID:Europe/Helsinki
BEGIN:DAYLIGHT
TZOFFSETFROM:+0200
TZOFFSETTO:+0300
TZNAME:EEST
DTSTART:20200329T010000
END:DAYLIGHT
BEGIN:STANDARD
TZOFFSETFROM:+0300
TZOFFSETTO:+0200
TZNAME:EET
DTSTART:20201025T010000
END:STANDARD
BEGIN:DAYLIGHT
TZOFFSETFROM:+0200
TZOFFSETTO:+0300
TZNAME:EEST
DTSTART:20210328T010000
END:DAYLIGHT
BEGIN:STANDARD
TZOFFSETFROM:+0300
TZOFFSETTO:+0200
TZNAME:EET
DTSTART:20211031T010000
END:STANDARD
BEGIN:DAYLIGHT
TZOFFSETFROM:+0200
TZOFFSETTO:+0300
TZNAME:EEST
DTSTART:20220327T010000
END:DAYLIGHT
BEGIN:STANDARD
TZOFFSETFROM:+0300
TZOFFSETTO:+0200
TZNAME:EET
DTSTART:20221030T010000
END:STANDARD
END:VTIMEZONE
BEGIN:VEVENT
DTSTART;TZID=Europe/Helsinki:20210817T160000
DTEND;TZID=Europe/Helsinki:20210817T180000
DTSTAMP:20260422T214809
CREATED:20210804T160045Z
LAST-MODIFIED:20210804T160108Z
UID:7465-1629216000-1629223200@spd-oberneuland.de
SUMMARY:traditioneller Sommerstand am Achterdieksee mit Sarah Ryglewski\, MdB
DESCRIPTION:Wir laden alle interessierten Bürger*innen ganz herzlich zu unserem Oberneulander SPD-Sommerstand am Achterdieksee ein. \nNeben den Beiratsmitgliedern\, die zu Oberneulander Themen Auskunft erteilen können\, steht dieses Jahr auch unsere Bundestagsabgeordnete Sarah Ryglewski für Gespräche zur Verfügung. \nNatürlich gibt es wieder eine kleine Überraschung für die Kinder.
URL:https://spd-oberneuland.de/event/traditioneller-sommerstand-am-achterdieksee-mit-sarah-ryglewski-mdb/
LOCATION:Achterdieksee\, Achterdiek 160\, Bremen\, 28355\, Deutschland
ATTACH;FMTTYPE=image/png:https://spd-oberneuland.de/wp-content/uploads/2021/08/21-08-Ankuendigung-Facebook.png
END:VEVENT
END:VCALENDAR